BEGIN:VCALENDAR
VERSION:2.0
PRODID:-//Gallery Vertigo - ECPv6.15.20//NONSGML v1.0//EN
CALSCALE:GREGORIAN
METHOD:PUBLISH
X-WR-CALNAME:Gallery Vertigo
X-ORIGINAL-URL:https://galleryvertigo.com
X-WR-CALDESC:Events for Gallery Vertigo
REFRESH-INTERVAL;VALUE=DURATION:PT1H
X-Robots-Tag:noindex
X-PUBLISHED-TTL:PT1H
BEGIN:VTIMEZONE
TZID:America/Vancouver
BEGIN:DAYLIGHT
TZOFFSETFROM:-0800
TZOFFSETTO:-0700
TZNAME:PDT
DTSTART:20250309T100000
END:DAYLIGHT
BEGIN:STANDARD
TZOFFSETFROM:-0700
TZOFFSETTO:-0800
TZNAME:PST
DTSTART:20251102T090000
END:STANDARD
BEGIN:DAYLIGHT
TZOFFSETFROM:-0800
TZOFFSETTO:-0700
TZNAME:PDT
DTSTART:20260308T100000
END:DAYLIGHT
BEGIN:STANDARD
TZOFFSETFROM:-0700
TZOFFSETTO:-0800
TZNAME:PST
DTSTART:20261101T090000
END:STANDARD
BEGIN:DAYLIGHT
TZOFFSETFROM:-0800
TZOFFSETTO:-0700
TZNAME:PDT
DTSTART:20270314T100000
END:DAYLIGHT
BEGIN:STANDARD
TZOFFSETFROM:-0700
TZOFFSETTO:-0800
TZNAME:PST
DTSTART:20271107T090000
END:STANDARD
END:VTIMEZONE
BEGIN:VEVENT
DTSTART;TZID=America/Vancouver:20260203T103000
DTEND;TZID=America/Vancouver:20260228T163000
DTSTAMP:20260423T063025
CREATED:20251217T214827Z
LAST-MODIFIED:20251217T214827Z
UID:2479-1770114600-1772296200@galleryvertigo.com
SUMMARY:Featured Member - Joe Kruger
DESCRIPTION:
URL:https://galleryvertigo.com/event/featured-member-joe-kruger/
LOCATION:BC
END:VEVENT
BEGIN:VEVENT
DTSTART;TZID=America/Vancouver:20260203T103000
DTEND;TZID=America/Vancouver:20260228T163000
DTSTAMP:20260423T063025
CREATED:20260109T233424Z
LAST-MODIFIED:20260117T040728Z
UID:2681-1770114600-1772296200@galleryvertigo.com
SUMMARY:NOAA Members - Winter Carnival Themed
DESCRIPTION:
URL:https://galleryvertigo.com/event/noaa-members-2/
LOCATION:Gallery Vertigo\, 2901 - 30th Avenue\, Vernon\, BC\, V1T 2B8\, Canada
END:VEVENT
BEGIN:VEVENT
DTSTART;TZID=America/Vancouver:20260219T183000
DTEND;TZID=America/Vancouver:20260219T193000
DTSTAMP:20260423T063025
CREATED:20260205T233641Z
LAST-MODIFIED:20260217T194255Z
UID:3016-1771525800-1771529400@galleryvertigo.com
SUMMARY:SD22 High School Jazz Benefit - Early Show
DESCRIPTION:Come and support our School District 22 High Schools music departments by attending this Jazz benefit concert. Students will be displaying their musical talents in two concerts.  Tickets may be purchased in person at the Gallery.  Tickets may also be purchased by e-transfer (to galleryvertigonoaa@gmail.com ) indicating in the message “Benefit Concert tickets” and include “Early Show”.
URL:https://galleryvertigo.com/event/sd22-high-school-jazz-benefit-early-show/
LOCATION:Gallery Vertigo\, 2901 - 30th Avenue\, Vernon\, BC\, V1T 2B8\, Canada
ATTACH;FMTTYPE=image/jpeg:https://galleryvertigo.com/wp-content/uploads/2026/02/SD-22-Jazz-Bands-Poster-Print.jpg
END:VEVENT
BEGIN:VEVENT
DTSTART;TZID=America/Vancouver:20260219T200000
DTEND;TZID=America/Vancouver:20260219T210000
DTSTAMP:20260423T063025
CREATED:20260205T234020Z
LAST-MODIFIED:20260217T194111Z
UID:3021-1771531200-1771534800@galleryvertigo.com
SUMMARY:SD22 High School Jazz Benefit Concert - Late Show
DESCRIPTION:Come and support our School District 22 High Schools music departments by attending this Jazz benefit concert. Students will be displaying their musical talents in two concerts.  Tickets may be purchased in person at the Gallery.  Tickets may also be purchased by e-transfer (to galleryvertigonoaa@gmail.com) indicating in the message “Benefit Concert tickets” and include “Late Show”.
URL:https://galleryvertigo.com/event/sd22-high-school-jazz-benefit-concert-late-show/
LOCATION:BC
ATTACH;FMTTYPE=image/jpeg:https://galleryvertigo.com/wp-content/uploads/2026/02/SD-22-Jazz-Bands-Poster-Print.jpg
END:VEVENT
END:VCALENDAR