BEGIN:VCALENDAR
VERSION:2.0
PRODID:-//Gallery Vertigo - ECPv6.15.20//NONSGML v1.0//EN
CALSCALE:GREGORIAN
METHOD:PUBLISH
X-ORIGINAL-URL:https://galleryvertigo.com
X-WR-CALDESC:Events for Gallery Vertigo
REFRESH-INTERVAL;VALUE=DURATION:PT1H
X-Robots-Tag:noindex
X-PUBLISHED-TTL:PT1H
BEGIN:VTIMEZONE
TZID:America/Vancouver
BEGIN:DAYLIGHT
TZOFFSETFROM:-0800
TZOFFSETTO:-0700
TZNAME:PDT
DTSTART:20250309T100000
END:DAYLIGHT
BEGIN:STANDARD
TZOFFSETFROM:-0700
TZOFFSETTO:-0800
TZNAME:PST
DTSTART:20251102T090000
END:STANDARD
BEGIN:DAYLIGHT
TZOFFSETFROM:-0800
TZOFFSETTO:-0700
TZNAME:PDT
DTSTART:20260308T100000
END:DAYLIGHT
BEGIN:STANDARD
TZOFFSETFROM:-0700
TZOFFSETTO:-0800
TZNAME:PST
DTSTART:20261101T090000
END:STANDARD
BEGIN:DAYLIGHT
TZOFFSETFROM:-0800
TZOFFSETTO:-0700
TZNAME:PDT
DTSTART:20270314T100000
END:DAYLIGHT
BEGIN:STANDARD
TZOFFSETFROM:-0700
TZOFFSETTO:-0800
TZNAME:PST
DTSTART:20271107T090000
END:STANDARD
END:VTIMEZONE
BEGIN:VEVENT
DTSTART;TZID=America/Vancouver:20260106T103000
DTEND;TZID=America/Vancouver:20260131T163000
DTSTAMP:20260423T074804
CREATED:20251217T214737Z
LAST-MODIFIED:20251224T015218Z
UID:2477-1767695400-1769877000@galleryvertigo.com
SUMMARY:Featured Member - Olga Retunska
DESCRIPTION:
URL:https://galleryvertigo.com/event/featured-member-olga-retunska/
LOCATION:Gallery Vertigo\, 2901 - 30th Avenue\, Vernon\, BC\, V1T 2B8\, Canada
END:VEVENT
BEGIN:VEVENT
DTSTART;TZID=America/Vancouver:20260106T103000
DTEND;TZID=America/Vancouver:20260131T170000
DTSTAMP:20260423T074804
CREATED:20251116T223501Z
LAST-MODIFIED:20251229T214144Z
UID:2200-1767695400-1769878800@galleryvertigo.com
SUMMARY:Thresholds & Transformations - School District 22
DESCRIPTION:
URL:https://galleryvertigo.com/event/thresholds-transformations-school-district-22/
LOCATION:Gallery Vertigo\, 2901 - 30th Avenue\, Vernon\, BC\, V1T 2B8\, Canada
ATTACH;FMTTYPE=image/jpeg:https://galleryvertigo.com/wp-content/uploads/2025/11/Thresholds-Transformations-Poster-Socials.jpg
END:VEVENT
END:VCALENDAR