BEGIN:VCALENDAR
VERSION:2.0
PRODID:-//Gallery Vertigo - ECPv6.15.20//NONSGML v1.0//EN
CALSCALE:GREGORIAN
METHOD:PUBLISH
X-WR-CALNAME:Gallery Vertigo
X-ORIGINAL-URL:https://galleryvertigo.com
X-WR-CALDESC:Events for Gallery Vertigo
REFRESH-INTERVAL;VALUE=DURATION:PT1H
X-Robots-Tag:noindex
X-PUBLISHED-TTL:PT1H
BEGIN:VTIMEZONE
TZID:America/Vancouver
BEGIN:DAYLIGHT
TZOFFSETFROM:-0800
TZOFFSETTO:-0700
TZNAME:PDT
DTSTART:20240310T100000
END:DAYLIGHT
BEGIN:STANDARD
TZOFFSETFROM:-0700
TZOFFSETTO:-0800
TZNAME:PST
DTSTART:20241103T090000
END:STANDARD
BEGIN:DAYLIGHT
TZOFFSETFROM:-0800
TZOFFSETTO:-0700
TZNAME:PDT
DTSTART:20250309T100000
END:DAYLIGHT
BEGIN:STANDARD
TZOFFSETFROM:-0700
TZOFFSETTO:-0800
TZNAME:PST
DTSTART:20251102T090000
END:STANDARD
BEGIN:DAYLIGHT
TZOFFSETFROM:-0800
TZOFFSETTO:-0700
TZNAME:PDT
DTSTART:20260308T100000
END:DAYLIGHT
BEGIN:STANDARD
TZOFFSETFROM:-0700
TZOFFSETTO:-0800
TZNAME:PST
DTSTART:20261101T090000
END:STANDARD
END:VTIMEZONE
BEGIN:VEVENT
DTSTART;TZID=America/Vancouver:20251202T103000
DTEND;TZID=America/Vancouver:20251220T163000
DTSTAMP:20260423T102442
CREATED:20251125T004643Z
LAST-MODIFIED:20251125T004722Z
UID:1205-1764671400-1766248200@galleryvertigo.com
SUMMARY:December Featured Member - Karen McFarlane
DESCRIPTION:
URL:https://galleryvertigo.com/event/karen-mcfarlane/
LOCATION:Gallery Vertigo\, 2901 - 30th Avenue\, Vernon\, BC\, V1T 2B8\, Canada
END:VEVENT
BEGIN:VEVENT
DTSTART;TZID=America/Vancouver:20251202T103000
DTEND;TZID=America/Vancouver:20251223T163000
DTSTAMP:20260423T102442
CREATED:20251125T004525Z
LAST-MODIFIED:20251125T213406Z
UID:1204-1764671400-1766507400@galleryvertigo.com
SUMMARY:Home for the Holidays
DESCRIPTION:Gallery Vertigo Member Show & Sale
URL:https://galleryvertigo.com/event/home-for-the-holidays/
LOCATION:Gallery Vertigo\, 2901 - 30th Avenue\, Vernon\, BC\, V1T 2B8\, Canada
ATTACH;FMTTYPE=image/jpeg:https://galleryvertigo.com/wp-content/uploads/2025/11/Home-for-the-Holidays-socials.jpg
END:VEVENT
END:VCALENDAR